BEGIN:VCALENDAR
VERSION:2.0
PRODID:-//SalsaChicago.com - ECPv5.10.0//NONSGML v1.0//EN
CALSCALE:GREGORIAN
METHOD:PUBLISH
X-WR-CALNAME:SalsaChicago.com
X-ORIGINAL-URL:http://salsachicago.com
X-WR-CALDESC:Events for SalsaChicago.com
BEGIN:VTIMEZONE
TZID:America/Chicago
BEGIN:DAYLIGHT
TZOFFSETFROM:-0600
TZOFFSETTO:-0500
TZNAME:CDT
DTSTART:20190310T080000
END:DAYLIGHT
BEGIN:STANDARD
TZOFFSETFROM:-0500
TZOFFSETTO:-0600
TZNAME:CST
DTSTART:20191103T070000
END:STANDARD
END:VTIMEZONE
BEGIN:VEVENT
DTSTART;TZID=America/Chicago:20190809T120000
DTEND;TZID=America/Chicago:20190809T220000
DTSTAMP:20260422T002249
CREATED:20190626T013926Z
LAST-MODIFIED:20190626T014323Z
UID:1154-1565352000-1565388000@salsachicago.com
SUMMARY:Cuban Festival @ Riis Park
DESCRIPTION:Click on image to enlarge. \nClick here for The Cuban Festival website and to purchase advanced tickets. \nClick here for the Cuban Festival Facebook page.
URL:http://salsachicago.com/event/cuban-festival-riis-park/
LOCATION:Riis Park\, 6100 W Fullerton\, Chicago\, IL\, 60639\, United States
END:VEVENT
BEGIN:VEVENT
DTSTART;TZID=America/Chicago:20190810T120000
DTEND;TZID=America/Chicago:20190810T220000
DTSTAMP:20260422T002250
CREATED:20190626T014040Z
LAST-MODIFIED:20190626T014338Z
UID:1157-1565438400-1565474400@salsachicago.com
SUMMARY:Cuban Festival @ Riis Park
DESCRIPTION:Click on image to enlarge. \nClick here for The Cuban Festival website and to purchase advanced tickets. \nClick here for the Cuban Festival Facebook page.
URL:http://salsachicago.com/event/cuban-festival-riis-park-2/
LOCATION:Riis Park\, 6100 W Fullerton\, Chicago\, IL\, 60639\, United States
END:VEVENT
BEGIN:VEVENT
DTSTART;TZID=America/Chicago:20190811T120000
DTEND;TZID=America/Chicago:20190811T220000
DTSTAMP:20260422T002250
CREATED:20190626T014126Z
LAST-MODIFIED:20190626T014305Z
UID:1159-1565524800-1565560800@salsachicago.com
SUMMARY:Cuban Festival @ Riis Park
DESCRIPTION:Click on image to enlarge. \nClick here for The Cuban Festival website and to purchase advanced tickets. \nClick here for the Cuban Festival Facebook page.
URL:http://salsachicago.com/event/cuban-festival-riis-park-3/
LOCATION:Riis Park\, 6100 W Fullerton\, Chicago\, IL\, 60639\, United States
END:VEVENT
BEGIN:VEVENT
DTSTART;TZID=America/Chicago:20190811T160000
DTEND;TZID=America/Chicago:20190811T170000
DTSTAMP:20260422T002250
CREATED:20190703T015843Z
LAST-MODIFIED:20190703T015843Z
UID:1180-1565539200-1565542800@salsachicago.com
SUMMARY:Dance Academy of Salsa @ Spirit of Music Garden
DESCRIPTION:Miguel & Michael Angelo will be teaching a free Salsa/Cha Cha Cha class from 4:00 – 5:00pm.
URL:http://salsachicago.com/event/dance-academy-of-salsa-spirit-of-music-garden/
LOCATION:Spirit of Music Garden\, 601 S Michigan Ave.\, Chicago\, IL\, 60605\, United States
END:VEVENT
BEGIN:VEVENT
DTSTART;TZID=America/Chicago:20190823T190000
DTEND;TZID=America/Chicago:20190823T220000
DTSTAMP:20260422T002250
CREATED:20190821T015059Z
LAST-MODIFIED:20190821T015545Z
UID:1184-1566586800-1566597600@salsachicago.com
SUMMARY:Meetup @ Salsa Bachata Friday's
DESCRIPTION:Meet up Salsa Fridays at The New Dance Academy of Salsa 2731 W Division\, Chicago (near Northwest side). Make new friends & learn to dance in a social environment. Plenty of street parking. \nTake 4 Mini Classes & stay Social Dancing till 10:00pm for 1 price $17 per person.  \n\n7:00 to 7:30pm – Bachata class\n7:30 to 8:00pm – Salsa class\n8:00 to 8:30pm – Merengue & Cha Cha Cha\nOpen dancing till 10:00pm\nBYOB 21 and over with ID’s\n$1.00 Bottles of Ice cold Water\n$2.00 Bottles Ice old Gatorade\n\nE-mail Lsalsero@aol.com to reserve your spot.
URL:http://salsachicago.com/event/meetup-salsa-bachata-fridays-120/
LOCATION:Dance Academy of Salsa\, 2246 N Western\, Chicago\, IL\, 60647\, United States
END:VEVENT
BEGIN:VEVENT
DTSTART;TZID=America/Chicago:20190825T160000
DTEND;TZID=America/Chicago:20190825T210000
DTSTAMP:20260422T002250
CREATED:20190821T021142Z
LAST-MODIFIED:20190821T021309Z
UID:1198-1566748800-1566766800@salsachicago.com
SUMMARY:Latin Night @ The Madison Banquet Hall
DESCRIPTION:Free Dance Lesson @ 4:00pm with Michael Angelo from the Dance Academy of Salsa. \nClick on image to enlarge.
URL:http://salsachicago.com/event/latin-night-the-madison-banquet-hall/
LOCATION:Madison Banquet Hall\, 5225 W Madison\, Chicago\, IL\, 60644\, United States
END:VEVENT
BEGIN:VEVENT
DTSTART;TZID=America/Chicago:20190830T190000
DTEND;TZID=America/Chicago:20190830T220000
DTSTAMP:20260422T002250
CREATED:20190821T015159Z
LAST-MODIFIED:20190821T015615Z
UID:1186-1567191600-1567202400@salsachicago.com
SUMMARY:Meetup @ Salsa Bachata Friday's
DESCRIPTION:Meet up Salsa Fridays at The New Dance Academy of Salsa 2731 W Division\, Chicago (near Northwest side). Make new friends & learn to dance in a social environment. Plenty of street parking. \nTake 4 Mini Classes & stay Social Dancing till 10:00pm for 1 price $17 per person.  \n\n7:00 to 7:30pm – Bachata class\n7:30 to 8:00pm – Salsa class\n8:00 to 8:30pm – Merengue & Cha Cha Cha\nOpen dancing till 10:00pm\nBYOB 21 and over with ID’s\n$1.00 Bottles of Ice cold Water\n$2.00 Bottles Ice old Gatorade\n\nE-mail Lsalsero@aol.com to reserve your spot.
URL:http://salsachicago.com/event/meetup-salsa-bachata-fridays-121/
LOCATION:Dance Academy of Salsa\, 2246 N Western\, Chicago\, IL\, 60647\, United States
END:VEVENT
END:VCALENDAR