BEGIN:VCALENDAR
VERSION:2.0
PRODID:-//SalsaChicago.com - ECPv5.10.0//NONSGML v1.0//EN
CALSCALE:GREGORIAN
METHOD:PUBLISH
X-WR-CALNAME:SalsaChicago.com
X-ORIGINAL-URL:http://salsachicago.com
X-WR-CALDESC:Events for SalsaChicago.com
BEGIN:VTIMEZONE
TZID:America/Chicago
BEGIN:DAYLIGHT
TZOFFSETFROM:-0600
TZOFFSETTO:-0500
TZNAME:CDT
DTSTART:20190310T080000
END:DAYLIGHT
BEGIN:STANDARD
TZOFFSETFROM:-0500
TZOFFSETTO:-0600
TZNAME:CST
DTSTART:20191103T070000
END:STANDARD
END:VTIMEZONE
BEGIN:VEVENT
DTSTART;TZID=America/Chicago:20190705T190000
DTEND;TZID=America/Chicago:20190705T220000
DTSTAMP:20260422T002250
CREATED:20190703T013849Z
LAST-MODIFIED:20190703T013849Z
UID:1168-1562353200-1562364000@salsachicago.com
SUMMARY:Meetup @ Salsa Bachata Friday's
DESCRIPTION:Meet up Salsa Fridays at The New Dance Academy of Salsa 2731 W Division\, Chicago (near Northwest side). Make new friends & learn to dance in a social environment. Plenty of street parking. \nTake 4 Mini Classes & stay Social Dancing till 10:00pm for 1 price $17 per person.  \n\n7:00 to 7:30pm – Bachata class\n7:30 to 8:00pm – Salsa class\n8:00 to 8:30pm – Merengue & Cha Cha Cha\nOpen dancing till 10:00pm\nBYOB 21 and over with ID’s\n$1.00 Bottles of Ice cold Water\n$2.00 Bottles Ice old Gatorade\n\nE-mail Lsalsero@aol.com to reserve your spot. \n 
URL:http://salsachicago.com/event/meetup-salsa-bachata-fridays-116/
LOCATION:Dance Academy of Salsa\, 2246 N Western\, Chicago\, IL\, 60647\, United States
END:VEVENT
BEGIN:VEVENT
DTSTART;TZID=America/Chicago:20190712T173000
DTEND;TZID=America/Chicago:20190712T183000
DTSTAMP:20260422T002250
CREATED:20190703T015517Z
LAST-MODIFIED:20190703T015517Z
UID:1176-1562952600-1562956200@salsachicago.com
SUMMARY:Dance Academy of Salsa @ Buckingham Fountain - Chicago Summer Dance
DESCRIPTION:Miguel & Michael Angelo will be teaching a free Salsa class from 5:30 – 6:30pm
URL:http://salsachicago.com/event/dance-academy-of-salsa-buckingham-fountain-chicago-summer-dance/
LOCATION:Buckingham Fountain\, 301 S Columbus Dr.\, Chicago\, IL\, 60605\, United States
END:VEVENT
BEGIN:VEVENT
DTSTART;TZID=America/Chicago:20190712T190000
DTEND;TZID=America/Chicago:20190712T220000
DTSTAMP:20260422T002250
CREATED:20190703T013948Z
LAST-MODIFIED:20190703T013948Z
UID:1170-1562958000-1562968800@salsachicago.com
SUMMARY:Meetup @ Salsa Bachata Friday's
DESCRIPTION:Meet up Salsa Fridays at The New Dance Academy of Salsa 2731 W Division\, Chicago (near Northwest side). Make new friends & learn to dance in a social environment. Plenty of street parking. \nTake 4 Mini Classes & stay Social Dancing till 10:00pm for 1 price $17 per person.  \n\n7:00 to 7:30pm – Bachata class\n7:30 to 8:00pm – Salsa class\n8:00 to 8:30pm – Merengue & Cha Cha Cha\nOpen dancing till 10:00pm\nBYOB 21 and over with ID’s\n$1.00 Bottles of Ice cold Water\n$2.00 Bottles Ice old Gatorade\n\nE-mail Lsalsero@aol.com to reserve your spot.
URL:http://salsachicago.com/event/meetup-salsa-bachata-fridays-117/
LOCATION:Dance Academy of Salsa\, 2246 N Western\, Chicago\, IL\, 60647\, United States
END:VEVENT
BEGIN:VEVENT
DTSTART;TZID=America/Chicago:20190719T110000
DTEND;TZID=America/Chicago:20190721T220000
DTSTAMP:20260422T002250
CREATED:20190227T034019Z
LAST-MODIFIED:20190227T034019Z
UID:1109-1563534000-1563746400@salsachicago.com
SUMMARY:2019 Colombian Festival
DESCRIPTION:Click on image to enlarge. \nDaily from 11:00am to 10:00pm. \nLocation: Kelvyn Park\n4438 W Wrightwood Ave\nChicago\, IL\nPhone 773) 230-6661
URL:http://salsachicago.com/event/2019-colombian-festival/
LOCATION:Kelvyn Park\, 4438 W Wrightwood\, Chicago\, IL\, United States
END:VEVENT
BEGIN:VEVENT
DTSTART;TZID=America/Chicago:20190719T190000
DTEND;TZID=America/Chicago:20190719T220000
DTSTAMP:20260422T002250
CREATED:20190703T014039Z
LAST-MODIFIED:20190703T014039Z
UID:1172-1563562800-1563573600@salsachicago.com
SUMMARY:Meetup @ Salsa Bachata Friday's
DESCRIPTION:Meet up Salsa Fridays at The New Dance Academy of Salsa 2731 W Division\, Chicago (near Northwest side). Make new friends & learn to dance in a social environment. Plenty of street parking. \nTake 4 Mini Classes & stay Social Dancing till 10:00pm for 1 price $17 per person.  \n\n7:00 to 7:30pm – Bachata class\n7:30 to 8:00pm – Salsa class\n8:00 to 8:30pm – Merengue & Cha Cha Cha\nOpen dancing till 10:00pm\nBYOB 21 and over with ID’s\n$1.00 Bottles of Ice cold Water\n$2.00 Bottles Ice old Gatorade\n\nE-mail Lsalsero@aol.com to reserve your spot.
URL:http://salsachicago.com/event/meetup-salsa-bachata-fridays-118/
LOCATION:Dance Academy of Salsa\, 2246 N Western\, Chicago\, IL\, 60647\, United States
END:VEVENT
BEGIN:VEVENT
DTSTART;TZID=America/Chicago:20190726T190000
DTEND;TZID=America/Chicago:20190726T220000
DTSTAMP:20260422T002250
CREATED:20190703T014132Z
LAST-MODIFIED:20190703T014132Z
UID:1174-1564167600-1564178400@salsachicago.com
SUMMARY:Meetup @ Salsa Bachata Friday's
DESCRIPTION:Meet up Salsa Fridays at The New Dance Academy of Salsa 2731 W Division\, Chicago (near Northwest side). Make new friends & learn to dance in a social environment. Plenty of street parking. \nTake 4 Mini Classes & stay Social Dancing till 10:00pm for 1 price $17 per person.  \n\n7:00 to 7:30pm – Bachata class\n7:30 to 8:00pm – Salsa class\n8:00 to 8:30pm – Merengue & Cha Cha Cha\nOpen dancing till 10:00pm\nBYOB 21 and over with ID’s\n$1.00 Bottles of Ice cold Water\n$2.00 Bottles Ice old Gatorade\n\nE-mail Lsalsero@aol.com to reserve your spot.
URL:http://salsachicago.com/event/meetup-salsa-bachata-fridays-119/
LOCATION:Dance Academy of Salsa\, 2246 N Western\, Chicago\, IL\, 60647\, United States
END:VEVENT
BEGIN:VEVENT
DTSTART;TZID=America/Chicago:20190727T110000
DTEND;TZID=America/Chicago:20190727T220000
DTSTAMP:20260422T002250
CREATED:20190219T033351Z
LAST-MODIFIED:20190219T033351Z
UID:1079-1564225200-1564264800@salsachicago.com
SUMMARY:2019 Festival Peruano (Peruvian Festival)
DESCRIPTION:Click on image to enlarge.
URL:http://salsachicago.com/event/2019-festival-peruano-peruvian-festival/
LOCATION:Kosciusko Park\, 2735 N Avers\, Chicago\, IL\, United States
END:VEVENT
END:VCALENDAR