BEGIN:VCALENDAR
VERSION:2.0
PRODID:-//SalsaChicago.com - ECPv5.10.0//NONSGML v1.0//EN
CALSCALE:GREGORIAN
METHOD:PUBLISH
X-WR-CALNAME:SalsaChicago.com
X-ORIGINAL-URL:http://salsachicago.com
X-WR-CALDESC:Events for SalsaChicago.com
BEGIN:VTIMEZONE
TZID:America/Chicago
BEGIN:DAYLIGHT
TZOFFSETFROM:-0600
TZOFFSETTO:-0500
TZNAME:CDT
DTSTART:20180311T080000
END:DAYLIGHT
BEGIN:STANDARD
TZOFFSETFROM:-0500
TZOFFSETTO:-0600
TZNAME:CST
DTSTART:20181104T070000
END:STANDARD
END:VTIMEZONE
BEGIN:VEVENT
DTSTART;TZID=America/Chicago:20181103T190000
DTEND;TZID=America/Chicago:20181103T220000
DTSTAMP:20260422T121910
CREATED:20180801T014939Z
LAST-MODIFIED:20180801T015133Z
UID:984-1541271600-1541282400@salsachicago.com
SUMMARY:National Cuatro Festival 20th Anniversary
DESCRIPTION: Click on image to enlarge.
URL:http://salsachicago.com/event/national-cuatro-festival-20th-anniversary/
LOCATION:Harris Theater Millenuim Park\, 205 E. Randolph St.\, Chicago\, IL\, 60601\, United States
END:VEVENT
BEGIN:VEVENT
DTSTART;TZID=America/Chicago:20181103T190000
DTEND;TZID=America/Chicago:20181103T220000
DTSTAMP:20260422T121910
CREATED:20180926T201717Z
LAST-MODIFIED:20180926T202041Z
UID:1008-1541271600-1541282400@salsachicago.com
SUMMARY:20th Anniversary National Cuatro Festival
DESCRIPTION:For tickets go to: http://www.praachicago.org/our-programs/national-cuatro/ \n \n \n \nFor tickets go to: http://www.praachicago.org/our-programs/national-cuatro/
URL:http://salsachicago.com/event/20th-anniversary-national-cuatro-festival/
LOCATION:Harris Theater Millenuim Park\, 205 E. Randolph St.\, Chicago\, IL\, 60601\, United States
END:VEVENT
BEGIN:VEVENT
DTSTART;TZID=America/Chicago:20181116T190000
DTEND;TZID=America/Chicago:20181116T220000
DTSTAMP:20260422T121910
CREATED:20181114T031131Z
LAST-MODIFIED:20181114T031315Z
UID:1018-1542394800-1542405600@salsachicago.com
SUMMARY:Meetup @ Salsa Bachata Friday's
DESCRIPTION:Meet up Salsa Fridays at The New Dance Academy of Salsa 2731 W Division\, Chicago (near Northwest side). Make new friends & learn to dance in a social environment. Plenty of street parking. \nTake 4 Mini Classes & stay Social Dancing till 10:00pm for 1 price $15 per person.  \n\n7:00 to 7:30pm – Bachata class\n7:30 to 8:00pm – Salsa class\n8:00 to 8:30pm – Merengue & Cha Cha Cha\nOpen dancing till 10:00pm\nBYOB 21 and over with ID’s\n$1.00 Bottles of Ice cold Water\n$2.00 Bottles Ice old Gatorade\n\nE-mail Lsalsero@aol.com to reserve your spot.
URL:http://salsachicago.com/event/meetup-salsa-bachata-fridays-87/
LOCATION:Dance Academy of Salsa\, 2246 N Western\, Chicago\, IL\, 60647\, United States
END:VEVENT
BEGIN:VEVENT
DTSTART;TZID=America/Chicago:20181123T190000
DTEND;TZID=America/Chicago:20181123T220000
DTSTAMP:20260422T121910
CREATED:20181114T031221Z
LAST-MODIFIED:20181114T031221Z
UID:1020-1542999600-1543010400@salsachicago.com
SUMMARY:Meetup @ Salsa Bachata Friday's
DESCRIPTION:Meet up Salsa Fridays at The New Dance Academy of Salsa 2731 W Division\, Chicago (near Northwest side). Make new friends & learn to dance in a social environment. Plenty of street parking. \nTake 4 Mini Classes & stay Social Dancing till 10:00pm for 1 price $15 per person.  \n\n7:00 to 7:30pm – Bachata class\n7:30 to 8:00pm – Salsa class\n8:00 to 8:30pm – Merengue & Cha Cha Cha\nOpen dancing till 10:00pm\nBYOB 21 and over with ID’s\n$1.00 Bottles of Ice cold Water\n$2.00 Bottles Ice old Gatorade\n\nE-mail Lsalsero@aol.com to reserve your spot.
URL:http://salsachicago.com/event/meetup-salsa-bachata-fridays-88/
LOCATION:Dance Academy of Salsa\, 2246 N Western\, Chicago\, IL\, 60647\, United States
END:VEVENT
BEGIN:VEVENT
DTSTART;TZID=America/Chicago:20181129T183000
DTEND;TZID=America/Chicago:20181129T220000
DTSTAMP:20260422T121910
CREATED:20180926T200056Z
LAST-MODIFIED:20180926T200056Z
UID:995-1543516200-1543528800@salsachicago.com
SUMMARY:Victor Garcia CD Release
DESCRIPTION:On Thursday\, November 29th\, CD release of Victor Garcia debut album as a leader\, The Grind/The Groove will be celebrated at SPACE in Evanston!!! \nLocation: Space 1245 Chicago Avenue Evanston\, IL 60202 \n \nGet your tickets here.
URL:http://salsachicago.com/event/victor-garcia-cd-release/
END:VEVENT
BEGIN:VEVENT
DTSTART;TZID=America/Chicago:20181130T190000
DTEND;TZID=America/Chicago:20181130T220000
DTSTAMP:20260422T121910
CREATED:20181114T031358Z
LAST-MODIFIED:20181114T031358Z
UID:1022-1543604400-1543615200@salsachicago.com
SUMMARY:Meetup @ Salsa Bachata Friday's
DESCRIPTION:Meet up Salsa Fridays at The New Dance Academy of Salsa 2731 W Division\, Chicago (near Northwest side). Make new friends & learn to dance in a social environment. Plenty of street parking. \nTake 4 Mini Classes & stay Social Dancing till 10:00pm for 1 price $15 per person.  \n\n7:00 to 7:30pm – Bachata class\n7:30 to 8:00pm – Salsa class\n8:00 to 8:30pm – Merengue & Cha Cha Cha\nOpen dancing till 10:00pm\nBYOB 21 and over with ID’s\n$1.00 Bottles of Ice cold Water\n$2.00 Bottles Ice old Gatorade\n\nE-mail Lsalsero@aol.com to reserve your spot.
URL:http://salsachicago.com/event/meetup-salsa-bachata-fridays-89/
LOCATION:Dance Academy of Salsa\, 2246 N Western\, Chicago\, IL\, 60647\, United States
END:VEVENT
END:VCALENDAR