BEGIN:VCALENDAR
VERSION:2.0
PRODID:-//SalsaChicago.com - ECPv5.10.0//NONSGML v1.0//EN
CALSCALE:GREGORIAN
METHOD:PUBLISH
X-WR-CALNAME:SalsaChicago.com
X-ORIGINAL-URL:http://salsachicago.com
X-WR-CALDESC:Events for SalsaChicago.com
BEGIN:VTIMEZONE
TZID:America/Chicago
BEGIN:DAYLIGHT
TZOFFSETFROM:-0600
TZOFFSETTO:-0500
TZNAME:CDT
DTSTART:20170312T080000
END:DAYLIGHT
BEGIN:STANDARD
TZOFFSETFROM:-0500
TZOFFSETTO:-0600
TZNAME:CST
DTSTART:20171105T070000
END:STANDARD
END:VTIMEZONE
BEGIN:VEVENT
DTSTART;TZID=America/Chicago:20171101T190000
DTEND;TZID=America/Chicago:20171101T230000
DTSTAMP:20260423T090807
CREATED:20171018T221223Z
LAST-MODIFIED:20171018T221223Z
UID:807-1509562800-1509577200@salsachicago.com
SUMMARY:Salsa @ The Wild Hare Every Wednesday
DESCRIPTION:
URL:http://salsachicago.com/event/salsa-the-wild-hare-every-wednesday/
LOCATION:The Wild Hare\, 2610 N Halsted\, Chicago\, IL\, United States
END:VEVENT
BEGIN:VEVENT
DTSTART;TZID=America/Chicago:20171103T190000
DTEND;TZID=America/Chicago:20171103T220000
DTSTAMP:20260423T090807
CREATED:20171018T220534Z
LAST-MODIFIED:20171018T220534Z
UID:799-1509735600-1509746400@salsachicago.com
SUMMARY:Meetup @ Salsa Bachata Friday's
DESCRIPTION:Meet up Salsa Fridays at The New Dance Academy of Salsa 2731 W Division\, Chicago (near Northwest side). Make new friends & learn to dance in a social environment. Plenty of street parking. \nTake 4 Mini Classes & stay Social Dancing till 10:00pm for 1 price $15 per person.  \n\n7:00 to 7:30pm – Bachata class\n7:30 to 8:00pm – Salsa class\n8:00 to 8:30pm – Merengue & Cha Cha Cha\nOpen dancing till 10:00pm\nBYOB 21 and over with ID’s\n$1.00 Bottles of Ice cold Water\n$2.00 Bottles Ice old Gatorade\n\nE-mail Lsalsero@aol.com to reserve your spot.
URL:http://salsachicago.com/event/meetup-salsa-bachata-fridays-38/
LOCATION:Dance Academy of Salsa\, 2246 N Western\, Chicago\, IL\, 60647\, United States
END:VEVENT
BEGIN:VEVENT
DTSTART;TZID=America/Chicago:20171104T190000
DTEND;TZID=America/Chicago:20171104T220000
DTSTAMP:20260423T090807
CREATED:20171016T185610Z
LAST-MODIFIED:20171016T190424Z
UID:788-1509822000-1509832800@salsachicago.com
SUMMARY:National Cuatro Festival Puertorriqueño 2017
DESCRIPTION:
URL:http://salsachicago.com/event/national-cuatro-festival-puertorriqueno-2017/
LOCATION:Harris Theater Millenuim Park\, 205 E. Randolph St.\, Chicago\, IL\, 60601\, United States
END:VEVENT
BEGIN:VEVENT
DTSTART;TZID=America/Chicago:20171110T190000
DTEND;TZID=America/Chicago:20171110T220000
DTSTAMP:20260423T090807
CREATED:20171018T220626Z
LAST-MODIFIED:20171018T220626Z
UID:801-1510340400-1510351200@salsachicago.com
SUMMARY:Meetup @ Salsa Bachata Friday's
DESCRIPTION:Meet up Salsa Fridays at The New Dance Academy of Salsa 2731 W Division\, Chicago (near Northwest side). Make new friends & learn to dance in a social environment. Plenty of street parking. \nTake 4 Mini Classes & stay Social Dancing till 10:00pm for 1 price $15 per person.  \n\n7:00 to 7:30pm – Bachata class\n7:30 to 8:00pm – Salsa class\n8:00 to 8:30pm – Merengue & Cha Cha Cha\nOpen dancing till 10:00pm\nBYOB 21 and over with ID’s\n$1.00 Bottles of Ice cold Water\n$2.00 Bottles Ice old Gatorade\n\nE-mail Lsalsero@aol.com to reserve your spot.
URL:http://salsachicago.com/event/meetup-salsa-bachata-fridays-39/
LOCATION:Dance Academy of Salsa\, 2246 N Western\, Chicago\, IL\, 60647\, United States
END:VEVENT
BEGIN:VEVENT
DTSTART;TZID=America/Chicago:20171117T190000
DTEND;TZID=America/Chicago:20171117T220000
DTSTAMP:20260423T090807
CREATED:20171018T220724Z
LAST-MODIFIED:20171018T220724Z
UID:803-1510945200-1510956000@salsachicago.com
SUMMARY:Meetup @ Salsa Bachata Friday's
DESCRIPTION:Meet up Salsa Fridays at The New Dance Academy of Salsa 2731 W Division\, Chicago (near Northwest side). Make new friends & learn to dance in a social environment. Plenty of street parking. \nTake 4 Mini Classes & stay Social Dancing till 10:00pm for 1 price $15 per person.  \n\n7:00 to 7:30pm – Bachata class\n7:30 to 8:00pm – Salsa class\n8:00 to 8:30pm – Merengue & Cha Cha Cha\nOpen dancing till 10:00pm\nBYOB 21 and over with ID’s\n$1.00 Bottles of Ice cold Water\n$2.00 Bottles Ice old Gatorade\n\nE-mail Lsalsero@aol.com to reserve your spot.
URL:http://salsachicago.com/event/meetup-salsa-bachata-fridays-40/
LOCATION:Dance Academy of Salsa\, 2246 N Western\, Chicago\, IL\, 60647\, United States
END:VEVENT
BEGIN:VEVENT
DTSTART;TZID=America/Chicago:20171124T190000
DTEND;TZID=America/Chicago:20171124T220000
DTSTAMP:20260423T090807
CREATED:20171018T220807Z
LAST-MODIFIED:20171018T220807Z
UID:805-1511550000-1511560800@salsachicago.com
SUMMARY:Meetup @ Salsa Bachata Friday's
DESCRIPTION:Meet up Salsa Fridays at The New Dance Academy of Salsa 2731 W Division\, Chicago (near Northwest side). Make new friends & learn to dance in a social environment. Plenty of street parking. \nTake 4 Mini Classes & stay Social Dancing till 10:00pm for 1 price $15 per person.  \n\n7:00 to 7:30pm – Bachata class\n7:30 to 8:00pm – Salsa class\n8:00 to 8:30pm – Merengue & Cha Cha Cha\nOpen dancing till 10:00pm\nBYOB 21 and over with ID’s\n$1.00 Bottles of Ice cold Water\n$2.00 Bottles Ice old Gatorade\n\nE-mail Lsalsero@aol.com to reserve your spot.
URL:http://salsachicago.com/event/meetup-salsa-bachata-fridays-41/
LOCATION:Dance Academy of Salsa\, 2246 N Western\, Chicago\, IL\, 60647\, United States
END:VEVENT
END:VCALENDAR