BEGIN:VCALENDAR
VERSION:2.0
PRODID:-//SalsaChicago.com - ECPv5.10.0//NONSGML v1.0//EN
CALSCALE:GREGORIAN
METHOD:PUBLISH
X-WR-CALNAME:SalsaChicago.com
X-ORIGINAL-URL:http://salsachicago.com
X-WR-CALDESC:Events for SalsaChicago.com
BEGIN:VTIMEZONE
TZID:America/Chicago
BEGIN:DAYLIGHT
TZOFFSETFROM:-0600
TZOFFSETTO:-0500
TZNAME:CDT
DTSTART:20170312T080000
END:DAYLIGHT
BEGIN:STANDARD
TZOFFSETFROM:-0500
TZOFFSETTO:-0600
TZNAME:CST
DTSTART:20171105T070000
END:STANDARD
END:VTIMEZONE
BEGIN:VEVENT
DTSTART;TZID=America/Chicago:20170701T180000
DTEND;TZID=America/Chicago:20170701T213000
DTSTAMP:20260423T143059
CREATED:20170418T005226Z
LAST-MODIFIED:20170502T022931Z
UID:617-1498932000-1498944600@salsachicago.com
SUMMARY:2017 Chicago Summer Dance Salsa/Mambo
DESCRIPTION:6:00 – 7:00pm – Free Salsa – Mambo class with the Dance Academy of Salsa (DanceAcademyofSalsa.com)\n7:30 – 9:30 Live Salsa band Luis Palermo & Brasa All Stars
URL:http://salsachicago.com/event/2017-chicago-summer-dance/
LOCATION:Chicago Summer Dance\, 601 S Michigan Ave.\, Chicago\, IL\, 60605\, United States
END:VEVENT
BEGIN:VEVENT
DTSTART;TZID=America/Chicago:20170705T210000
DTEND;TZID=America/Chicago:20170706T010000
DTSTAMP:20260423T143059
CREATED:20170620T015610Z
LAST-MODIFIED:20170620T015852Z
UID:731-1499288400-1499302800@salsachicago.com
SUMMARY:Salsa @ The Wild Hare
DESCRIPTION:Salsa at The Wild Hare – 1st Wednesday of every month starting July 5th. \nClick on image to enlarge for all the details. \n \n 
URL:http://salsachicago.com/event/salsa-the-wild-hare/
LOCATION:The Wild Hare\, 2610 N Halsted\, Chicago\, IL\, United States
END:VEVENT
BEGIN:VEVENT
DTSTART;TZID=America/Chicago:20170708T180000
DTEND;TZID=America/Chicago:20170708T213000
DTSTAMP:20260423T143059
CREATED:20170502T013331Z
LAST-MODIFIED:20170502T023008Z
UID:659-1499536800-1499549400@salsachicago.com
SUMMARY:2017 Chicago Summer Dance Salsa
DESCRIPTION:6:00 – 7:00pm – Free Salsa class with Latin Rhythms \n7:30 – 9:30 Live Salsa band Orquesta El Macabeo
URL:http://salsachicago.com/event/2017-chicago-summer-dance-2/
LOCATION:Chicago Summer Dance\, 601 S Michigan Ave.\, Chicago\, IL\, 60605\, United States
END:VEVENT
BEGIN:VEVENT
DTSTART;TZID=America/Chicago:20170713T180000
DTEND;TZID=America/Chicago:20170713T210000
DTSTAMP:20260423T143059
CREATED:20170502T014218Z
LAST-MODIFIED:20170502T023044Z
UID:661-1499968800-1499979600@salsachicago.com
SUMMARY:2017 Chicago Summer Dance Bomba
DESCRIPTION:6:00 – 7:00pm – Ivelisse Diaz with La Escuelita Bombera de Corazon (Bomba)\n7:00 – 9:00 Bomba con Buya (Bomba)\nHumboldt Park Boathouse\, 1301 N. Sacramento Ave.
URL:http://salsachicago.com/event/2017-chicago-summer-dance-3/
LOCATION:Humboldt Park Boat House\, 1301 N Sacramento\, Chicago\, IL\, 60622\, United States
END:VEVENT
BEGIN:VEVENT
DTSTART;TZID=America/Chicago:20170714T183000
DTEND;TZID=America/Chicago:20170714T220000
DTSTAMP:20260423T143059
CREATED:20170620T014302Z
LAST-MODIFIED:20170620T020236Z
UID:727-1500057000-1500069600@salsachicago.com
SUMMARY:2017 Chicago Latin Jazz Festival
DESCRIPTION:This year’s festival will be headlined by “Charlie Sepulveda & The Turnaround\,” directly from Puerto Rico. \nThe festival will be dedicated to this year’s centennial birthday of Dizzy Gillespie & Mongo Sanataria & other great jazz musicians.
URL:http://salsachicago.com/event/2017-chicago-latin-jazz-festival/
LOCATION:Humboldt Park Boat House\, 1301 N Sacramento\, Chicago\, IL\, 60622\, United States
END:VEVENT
BEGIN:VEVENT
DTSTART;TZID=America/Chicago:20170715T180000
DTEND;TZID=America/Chicago:20170715T213000
DTSTAMP:20260423T143059
CREATED:20170502T014629Z
LAST-MODIFIED:20170502T023150Z
UID:664-1500141600-1500154200@salsachicago.com
SUMMARY:2017 Chicago Summer Dance Timba/Salsa
DESCRIPTION:6:00 – 7:00pm – Salsa – Timba with Chicago Dance\n7:30 – 9:30 Live band Timba Brava
URL:http://salsachicago.com/event/2017-chicago-summer-dance-4/
LOCATION:Chicago Summer Dance\, 601 S Michigan Ave.\, Chicago\, IL\, 60605\, United States
END:VEVENT
BEGIN:VEVENT
DTSTART;TZID=America/Chicago:20170715T183000
DTEND;TZID=America/Chicago:20170715T203000
DTSTAMP:20260423T143059
CREATED:20170620T020355Z
LAST-MODIFIED:20170620T020355Z
UID:736-1500143400-1500150600@salsachicago.com
SUMMARY:2017 Chicago Latin Jazz Festival
DESCRIPTION:This year’s festival will be headlined by “Charlie Sepulveda & The Turnaround\,” directly from Puerto Rico. \nThe festival will be dedicated to this year’s centennial birthday of Dizzy Gillespie & Mongo Sanataria & other great jazz musicians.
URL:http://salsachicago.com/event/2017-chicago-latin-jazz-festival-2/
LOCATION:Humboldt Park Boat House\, 1301 N Sacramento\, Chicago\, IL\, 60622\, United States
END:VEVENT
BEGIN:VEVENT
DTSTART;TZID=America/Chicago:20170716T150000
DTEND;TZID=America/Chicago:20170716T173000
DTSTAMP:20260423T143059
CREATED:20170620T020611Z
LAST-MODIFIED:20170620T020611Z
UID:738-1500217200-1500226200@salsachicago.com
SUMMARY:2017 Chicago Latin Jazz Festival
DESCRIPTION:This year’s festival will be headlined by “Charlie Sepulveda & The Turnaround\,” directly from Puerto Rico. \nThe festival will be dedicated to this year’s centennial birthday of Dizzy Gillespie & Mongo Sanataria & other great jazz musicians.
URL:http://salsachicago.com/event/2017-chicago-latin-jazz-festival-3/
LOCATION:Navy Pier Chicago\, 600 E Grand\, Chicago\, IL\, United States
END:VEVENT
BEGIN:VEVENT
DTSTART;TZID=America/Chicago:20170720T180000
DTEND;TZID=America/Chicago:20170720T210000
DTSTAMP:20260423T143059
CREATED:20170502T015223Z
LAST-MODIFIED:20170502T023216Z
UID:667-1500573600-1500584400@salsachicago.com
SUMMARY:2017 Chicago Summer Dance Salsa/Bachata
DESCRIPTION:6:00 – 7:00pm – Free Salsa Bachata class with Denita Inez & Desueño \n7:00 – 9:00 DJ series with El Caobo
URL:http://salsachicago.com/event/2017-chicago-summer-dance-5/
LOCATION:Ping Tom Memorial Park\, 300 W 19th Street\, Chicago\, IL\, United States
END:VEVENT
BEGIN:VEVENT
DTSTART;TZID=America/Chicago:20170722T180000
DTEND;TZID=America/Chicago:20170722T213000
DTSTAMP:20260423T143059
CREATED:20170502T015535Z
LAST-MODIFIED:20170502T023244Z
UID:672-1500746400-1500759000@salsachicago.com
SUMMARY:2017 Chicago Summer Dance Mambo/Cha Cha Cha
DESCRIPTION:6:00 – 7:00pm – Free Salsa\, Mambo\, Cha Cha Cha class with Mix Motion Arts\n7:30 – 9:30 Live band Charanga Tropical
URL:http://salsachicago.com/event/2017-chicago-summer-dance-6/
LOCATION:Chicago Summer Dance\, 601 S Michigan Ave.\, Chicago\, IL\, 60605\, United States
END:VEVENT
BEGIN:VEVENT
DTSTART;TZID=America/Chicago:20170727T180000
DTEND;TZID=America/Chicago:20170727T210000
DTSTAMP:20260423T143059
CREATED:20170418T005918Z
LAST-MODIFIED:20170502T023319Z
UID:622-1501178400-1501189200@salsachicago.com
SUMMARY:2017 Chicago Summer Dance Salsa/Cha Cha Cha
DESCRIPTION:6:00 – 7:00pm – Free Salsa\, Cha Cha Cha class with the Dance Academy of Salsa (DanceAcademyofSalsa.com)\n7:00 – 9:00 Aguzate (Vintage Salsa DJ set)
URL:http://salsachicago.com/event/2017-chicago-summer-dance-in-the-parks/
LOCATION:Humboldt Park Boathouse\, 1301 N Sacramento\, Chicago\, IL\, 60622\, United States
END:VEVENT
BEGIN:VEVENT
DTSTART;TZID=America/Chicago:20170729T180000
DTEND;TZID=America/Chicago:20170729T213000
DTSTAMP:20260423T143059
CREATED:20170502T015841Z
LAST-MODIFIED:20170502T023343Z
UID:675-1501351200-1501363800@salsachicago.com
SUMMARY:2017 Chicago Summer Dance Salsa
DESCRIPTION:6:00 – 7:00pm – Free Salsa class with Arthur Murray Dance Center\n7:30 – 9:30 Live band Gerardo y Los Habaneros
URL:http://salsachicago.com/event/2017-chicago-summer-dance-7/
LOCATION:Chicago Summer Dance\, 601 S Michigan Ave.\, Chicago\, IL\, 60605\, United States
END:VEVENT
BEGIN:VEVENT
DTSTART;TZID=America/Chicago:20170730T190000
DTEND;TZID=America/Chicago:20170730T220000
DTSTAMP:20260423T143059
CREATED:20170731T035127Z
LAST-MODIFIED:20170731T035127Z
UID:758-1501441200-1501452000@salsachicago.com
SUMMARY:Meetup @ Salsa Bachata Friday's
DESCRIPTION:Meet up Salsa Fridays at The New Dance Academy of Salsa 2731 W Division\, Chicago (near Northwest side). Make new friends & learn to dance in a social environment. Plenty of street parking. \nTake 4 Mini Classes & stay Social Dancing till 10:00pm for 1 price $15 per person.  \n\n7:00 to 7:30pm – Bachata class\n7:30 to 8:00pm – Salsa class\n8:00 to 8:30pm – Merengue & Cha Cha Cha\nOpen dancing till 10:00pm\nBYOB 21 and over with ID’s\n$1.00 Bottles of Ice cold Water\n$2.00 Bottles Ice old Gatorade\nJuicy Luzy Sangria Tasting (21 and over with ID’s) Pear\, Mango\, Ruby Red\, Pomegranate\n\nE-mail Lsalsero@aol.com to reserve your spot.
URL:http://salsachicago.com/event/meetup-salsa-bachata-fridays-33/
LOCATION:Dance Academy of Salsa\, 2246 N Western\, Chicago\, IL\, 60647\, United States
END:VEVENT
END:VCALENDAR