BEGIN:VCALENDAR
VERSION:2.0
PRODID:-//SalsaChicago.com - ECPv5.10.0//NONSGML v1.0//EN
CALSCALE:GREGORIAN
METHOD:PUBLISH
X-WR-CALNAME:SalsaChicago.com
X-ORIGINAL-URL:http://salsachicago.com
X-WR-CALDESC:Events for SalsaChicago.com
BEGIN:VTIMEZONE
TZID:America/Chicago
BEGIN:DAYLIGHT
TZOFFSETFROM:-0600
TZOFFSETTO:-0500
TZNAME:CDT
DTSTART:20170312T080000
END:DAYLIGHT
BEGIN:STANDARD
TZOFFSETFROM:-0500
TZOFFSETTO:-0600
TZNAME:CST
DTSTART:20171105T070000
END:STANDARD
END:VTIMEZONE
BEGIN:VEVENT
DTSTART;TZID=America/Chicago:20170602T190000
DTEND;TZID=America/Chicago:20170602T220000
DTSTAMP:20260423T154454
CREATED:20170418T014552Z
LAST-MODIFIED:20170418T014552Z
UID:642-1496430000-1496440800@salsachicago.com
SUMMARY:Meetup @ Salsa Bachata & Sangria Friday's
DESCRIPTION:Meet up Salsa Fridays at The New Dance Academy of Salsa 2731 W Division\, Chicago (near Northwest side). Make new friends & learn to dance in a social environment. Plenty of street parking. \nTake 4 Mini Classes & stay Social Dancing till 10:00pm for 1 price $15 per person.  \n\n7:00 to 7:30pm – Bachata class\n7:30 to 8:00pm – Salsa class\n8:00 to 8:30pm – Merengue & Cha Cha Cha\nOpen dancing till 10:00pm\nBYOB 21 and over with ID’s\n$1.00 Bottles of Ice cold Water\n$2.00 Bottles Ice old Gatorade\nJuicy Luzy Sangria Tasting (21 and over with ID’s) Pear\, Mango\, Ruby Red\, Pomegranate\n\nE-mail Lsalsero@aol.com to reserve your spot.
URL:http://salsachicago.com/event/meetup-salsa-bachata-sangria-fridays/
LOCATION:Dance Academy of Salsa\, 2246 N Western\, Chicago\, IL\, 60647\, United States
END:VEVENT
BEGIN:VEVENT
DTSTART;TZID=America/Chicago:20170609T190000
DTEND;TZID=America/Chicago:20170609T220000
DTSTAMP:20260423T154454
CREATED:20170418T014655Z
LAST-MODIFIED:20170418T014655Z
UID:644-1497034800-1497045600@salsachicago.com
SUMMARY:Meetup @ Salsa Bachata & Sangria Friday's
DESCRIPTION:Meet up Salsa Fridays at The New Dance Academy of Salsa 2731 W Division\, Chicago (near Northwest side). Make new friends & learn to dance in a social environment. Plenty of street parking. \nTake 4 Mini Classes & stay Social Dancing till 10:00pm for 1 price $15 per person.  \n\n7:00 to 7:30pm – Bachata class\n7:30 to 8:00pm – Salsa class\n8:00 to 8:30pm – Merengue & Cha Cha Cha\nOpen dancing till 10:00pm\nBYOB 21 and over with ID’s\n$1.00 Bottles of Ice cold Water\n$2.00 Bottles Ice old Gatorade\nJuicy Luzy Sangria Tasting (21 and over with ID’s) Pear\, Mango\, Ruby Red\, Pomegranate\n\nE-mail Lsalsero@aol.com to reserve your spot.
URL:http://salsachicago.com/event/meetup-salsa-bachata-sangria-fridays-2/
LOCATION:Dance Academy of Salsa\, 2246 N Western\, Chicago\, IL\, 60647\, United States
END:VEVENT
BEGIN:VEVENT
DTSTART;TZID=America/Chicago:20170615T110000
DTEND;TZID=America/Chicago:20170618T220000
DTSTAMP:20260423T154454
CREATED:20170418T010622Z
LAST-MODIFIED:20170418T011555Z
UID:624-1497524400-1497823200@salsachicago.com
SUMMARY:2017 Puerto Rican Festival
DESCRIPTION:Click on image for full size.
URL:http://salsachicago.com/event/2017-puerto-rican-festival/
LOCATION:Humboldt Park\, 3100 W North Ave\,\, Chicago\, IL\, United States
END:VEVENT
BEGIN:VEVENT
DTSTART;TZID=America/Chicago:20170623T190000
DTEND;TZID=America/Chicago:20170623T220000
DTSTAMP:20260423T154454
CREATED:20170418T014852Z
LAST-MODIFIED:20170418T014948Z
UID:648-1498244400-1498255200@salsachicago.com
SUMMARY:Meetup @ Salsa Bachata & Sangria Friday's
DESCRIPTION:Meet up Salsa Fridays at The New Dance Academy of Salsa 2731 W Division\, Chicago (near Northwest side). Make new friends & learn to dance in a social environment. Plenty of street parking. \nTake 4 Mini Classes & stay Social Dancing till 10:00pm for 1 price $15 per person.  \n\n7:00 to 7:30pm – Bachata class\n7:30 to 8:00pm – Salsa class\n8:00 to 8:30pm – Merengue & Cha Cha Cha\nOpen dancing till 10:00pm\nBYOB 21 and over with ID’s\n$1.00 Bottles of Ice cold Water\n$2.00 Bottles Ice old Gatorade\nJuicy Luzy Sangria Tasting (21 and over with ID’s) Pear\, Mango\, Ruby Red\, Pomegranate\n\nE-mail Lsalsero@aol.com to reserve your spot.
URL:http://salsachicago.com/event/meetup-salsa-bachata-sangria-fridays-4/
LOCATION:Dance Academy of Salsa\, 2246 N Western\, Chicago\, IL\, 60647\, United States
END:VEVENT
BEGIN:VEVENT
DTSTART;TZID=America/Chicago:20170625T220000
DTEND;TZID=America/Chicago:20170625T220000
DTSTAMP:20260423T154454
CREATED:20170620T203855Z
LAST-MODIFIED:20170620T203855Z
UID:741-1498428000-1498428000@salsachicago.com
SUMMARY:Society Sundays @ Debonair
DESCRIPTION:Latin\, Hip Hop & Raggae.
URL:http://salsachicago.com/event/society-sundays-debonair/
LOCATION:Debonair\, 1575 N Milwaukee Ave.\, Chicago\, IL\, United States
END:VEVENT
BEGIN:VEVENT
DTSTART;TZID=America/Chicago:20170630T190000
DTEND;TZID=America/Chicago:20170630T220000
DTSTAMP:20260423T154454
CREATED:20170418T015103Z
LAST-MODIFIED:20170418T015103Z
UID:650-1498849200-1498860000@salsachicago.com
SUMMARY:Meetup @ Salsa Bachata & Sangria Friday's
DESCRIPTION:Meet up Salsa Fridays at The New Dance Academy of Salsa 2731 W Division\, Chicago (near Northwest side). Make new friends & learn to dance in a social environment. Plenty of street parking. \nTake 4 Mini Classes & stay Social Dancing till 10:00pm for 1 price $15 per person.  \n\n7:00 to 7:30pm – Bachata class\n7:30 to 8:00pm – Salsa class\n8:00 to 8:30pm – Merengue & Cha Cha Cha\nOpen dancing till 10:00pm\nBYOB 21 and over with ID’s\n$1.00 Bottles of Ice cold Water\n$2.00 Bottles Ice old Gatorade\nJuicy Luzy Sangria Tasting (21 and over with ID’s) Pear\, Mango\, Ruby Red\, Pomegranate\n\nE-mail Lsalsero@aol.com to reserve your spot.
URL:http://salsachicago.com/event/meetup-salsa-bachata-sangria-fridays-5/
LOCATION:Dance Academy of Salsa\, 2246 N Western\, Chicago\, IL\, 60647\, United States
END:VEVENT
END:VCALENDAR