BEGIN:VCALENDAR
VERSION:2.0
PRODID:-//SalsaChicago.com - ECPv5.10.0//NONSGML v1.0//EN
CALSCALE:GREGORIAN
METHOD:PUBLISH
X-WR-CALNAME:SalsaChicago.com
X-ORIGINAL-URL:http://salsachicago.com
X-WR-CALDESC:Events for SalsaChicago.com
BEGIN:VTIMEZONE
TZID:America/Chicago
BEGIN:DAYLIGHT
TZOFFSETFROM:-0600
TZOFFSETTO:-0500
TZNAME:CDT
DTSTART:20160313T080000
END:DAYLIGHT
BEGIN:STANDARD
TZOFFSETFROM:-0500
TZOFFSETTO:-0600
TZNAME:CST
DTSTART:20161106T070000
END:STANDARD
BEGIN:DAYLIGHT
TZOFFSETFROM:-0600
TZOFFSETTO:-0500
TZNAME:CDT
DTSTART:20170312T080000
END:DAYLIGHT
BEGIN:STANDARD
TZOFFSETFROM:-0500
TZOFFSETTO:-0600
TZNAME:CST
DTSTART:20171105T070000
END:STANDARD
BEGIN:DAYLIGHT
TZOFFSETFROM:-0600
TZOFFSETTO:-0500
TZNAME:CDT
DTSTART:20180311T080000
END:DAYLIGHT
BEGIN:STANDARD
TZOFFSETFROM:-0500
TZOFFSETTO:-0600
TZNAME:CST
DTSTART:20181104T070000
END:STANDARD
BEGIN:DAYLIGHT
TZOFFSETFROM:-0600
TZOFFSETTO:-0500
TZNAME:CDT
DTSTART:20190310T080000
END:DAYLIGHT
BEGIN:STANDARD
TZOFFSETFROM:-0500
TZOFFSETTO:-0600
TZNAME:CST
DTSTART:20191103T070000
END:STANDARD
BEGIN:DAYLIGHT
TZOFFSETFROM:-0600
TZOFFSETTO:-0500
TZNAME:CDT
DTSTART:20200308T080000
END:DAYLIGHT
BEGIN:STANDARD
TZOFFSETFROM:-0500
TZOFFSETTO:-0600
TZNAME:CST
DTSTART:20201101T070000
END:STANDARD
BEGIN:DAYLIGHT
TZOFFSETFROM:-0600
TZOFFSETTO:-0500
TZNAME:CDT
DTSTART:20210314T080000
END:DAYLIGHT
BEGIN:STANDARD
TZOFFSETFROM:-0500
TZOFFSETTO:-0600
TZNAME:CST
DTSTART:20211107T070000
END:STANDARD
END:VTIMEZONE
BEGIN:VEVENT
DTSTART;TZID=America/Chicago:20211001T193000
DTEND;TZID=America/Chicago:20211001T193000
DTSTAMP:20260424T224538
CREATED:20210906T210708Z
LAST-MODIFIED:20210906T210708Z
UID:1523-1633116600-1633116600@salsachicago.com
SUMMARY:Meetup @ Salsa Bachata Friday's
DESCRIPTION:Take 4 Mini Classes & stay Social Dancing till 10:00pm for 1 price $25 per person.  \n \n\n7:30 to 8:00pm – Bachata\n8:00 to 8:30pm – Merengue & Cha Cha Cha\n\n8:30 to 9:00pm – Salsa\n\nOpen dancing till 10:00pm\nBYOB 21 and over with ID’s\n$2.00 Bottles of Ice cold Water\n$2.00 Bottles Ice old Gatorade\n\nQuestions? Call 773-895-8184  \nE-mail Lsalsero@aol.com to reserve your spot.
URL:http://salsachicago.com/event/meetup-salsa-bachata-fridays-192/
LOCATION:Dance Academy of Salsa Logan Square\, 2246 N Western\, Chicago\, 60647\, United States
END:VEVENT
BEGIN:VEVENT
DTSTART;TZID=America/Chicago:20160129T200000
DTEND;TZID=America/Chicago:20160129T230000
DTSTAMP:20260424T224538
CREATED:20160112T063314Z
LAST-MODIFIED:20160112T063314Z
UID:194-1454097600-1454108400@salsachicago.com
SUMMARY:Meetup & Social Fridays
DESCRIPTION:Social Fridays at The New Dance Academy of Salsa 2731 W Division\, Chicago (near Northwest side) plenty of street parking. \nTake 4 Mini Classes & Social Dancing till 11:00pm for 1 price $15 per person. Make new friends & learn to dance in a social environment.  \n\n8:00 to 8:30pm – Bachata class\n8:30 to 9:00pm – Salsa class\n9:00 to 9:30pm – Merengue & Cha Cha Cha\nOpen dancing till 11:00pm\nBYOB 21 and over with ID’s\n$1.00 Bottles of Ice Cold Water\n\nE-mail Lsalsero@aol.com to reserve your spot.
URL:http://salsachicago.com/event/meetup-social-fridays-2/
LOCATION:Dance Academy of Salsa\, 2246 N Western\, Chicago\, IL\, 60647\, United States
END:VEVENT
BEGIN:VEVENT
DTSTART;TZID=America/Chicago:20160122T200000
DTEND;TZID=America/Chicago:20160122T230000
DTSTAMP:20260424T224538
CREATED:20160112T063152Z
LAST-MODIFIED:20160112T063152Z
UID:192-1453492800-1453503600@salsachicago.com
SUMMARY:Meetup & Social Fridays
DESCRIPTION:Social Fridays at The New Dance Academy of Salsa 2731 W Division\, Chicago (near Northwest side) plenty of street parking. \nTake 4 Mini Classes & Social Dancing till 11:00pm for 1 price $15 per person. Make new friends & learn to dance in a social environment.  \n\n8:00 to 8:30pm – Bachata class\n8:30 to 9:00pm – Salsa class\n9:00 to 9:30pm – Merengue & Cha Cha Cha\nOpen dancing till 11:00pm\nBYOB 21 and over with ID’s\n$1.00 Bottles of Ice Cold Water\n\nE-mail Lsalsero@aol.com to reserve your spot.
URL:http://salsachicago.com/event/meetup-social-fridays/
LOCATION:Dance Academy of Salsa\, 2246 N Western\, Chicago\, IL\, 60647\, United States
END:VEVENT
BEGIN:VEVENT
DTSTART;TZID=America/Chicago:20160115T200000
DTEND;TZID=America/Chicago:20160115T230000
DTSTAMP:20260424T224538
CREATED:20160112T062957Z
LAST-MODIFIED:20160112T065151Z
UID:190-1452888000-1452898800@salsachicago.com
SUMMARY:Meet up & Social Fridays
DESCRIPTION:Social Fridays at The New Dance Academy of Salsa 2731 W Division\, Chicago (near Northwest side) plenty of street parking. \nTake 4 Mini Classes & Social Dancing till 11:00pm for 1 price $15 per person. Make new friends & learn to dance in a social environment.  \n\n8:00 to 8:30pm – Bachata class\n8:30 to 9:00pm – Salsa class\n9:00 to 9:30pm – Merengue & Cha Cha Cha\nOpen dancing till 11:00pm\nBYOB 21 and over with ID’s\n$1.00 Bottles of Ice Cold Water\n\nE-mail Lsalsero@aol.com to reserve your spot.
URL:http://salsachicago.com/event/meet-up-social-fridays/
LOCATION:Dance Academy of Salsa\, 2246 N Western\, Chicago\, IL\, 60647\, United States
END:VEVENT
END:VCALENDAR