BEGIN:VCALENDAR
VERSION:2.0
PRODID:-//SalsaChicago.com - ECPv5.10.0//NONSGML v1.0//EN
CALSCALE:GREGORIAN
METHOD:PUBLISH
X-WR-CALNAME:SalsaChicago.com
X-ORIGINAL-URL:http://salsachicago.com
X-WR-CALDESC:Events for SalsaChicago.com
BEGIN:VTIMEZONE
TZID:America/Chicago
BEGIN:DAYLIGHT
TZOFFSETFROM:-0600
TZOFFSETTO:-0500
TZNAME:CDT
DTSTART:20190310T080000
END:DAYLIGHT
BEGIN:STANDARD
TZOFFSETFROM:-0500
TZOFFSETTO:-0600
TZNAME:CST
DTSTART:20191103T070000
END:STANDARD
END:VTIMEZONE
BEGIN:VEVENT
DTSTART;TZID=America/Chicago:20190308T190000
DTEND;TZID=America/Chicago:20190308T220000
DTSTAMP:20260422T074921
CREATED:20190219T032218Z
LAST-MODIFIED:20190219T032218Z
UID:1071-1552071600-1552082400@salsachicago.com
SUMMARY:Meetup @ Salsa Bachata Friday's
DESCRIPTION:Meet up Salsa Fridays at The New Dance Academy of Salsa 2731 W Division\, Chicago (near Northwest side). Make new friends & learn to dance in a social environment. Plenty of street parking. \nTake 4 Mini Classes & stay Social Dancing till 10:00pm for 1 price $17 per person.  \n\n7:00 to 7:30pm – Bachata class\n7:30 to 8:00pm – Salsa class\n8:00 to 8:30pm – Merengue & Cha Cha Cha\nOpen dancing till 10:00pm\nBYOB 21 and over with ID’s\n$1.00 Bottles of Ice cold Water\n$2.00 Bottles Ice old Gatorade\n\nE-mail Lsalsero@aol.com to reserve your spot.
URL:http://salsachicago.com/event/meetup-salsa-bachata-fridays-102/
LOCATION:Dance Academy of Salsa\, 2246 N Western\, Chicago\, IL\, 60647\, United States
END:VEVENT
BEGIN:VEVENT
DTSTART;TZID=America/Chicago:20190308T193000
DTEND;TZID=America/Chicago:20190308T213000
DTSTAMP:20260422T074922
CREATED:20190222T030111Z
LAST-MODIFIED:20190222T030111Z
UID:1094-1552073400-1552080600@salsachicago.com
SUMMARY:A Puerto Rican Story
DESCRIPTION:A Puerto Rican Story is an inspiring dramatic play set in the 1960’s that explores the emotional story of a family’s poignant journey to achieve the American dream. A Puerto Rican Story follows the journey of a young Puerto Rican family struggling to make ends meet and hoping for a fresh start in the gold paved streets of América. Uprooting their family from their island home\, they make the transatlantic flight to Chicago. Together they will learn that assimilating into the American fabric and landscape will test not only their endurance but also their faith. A Puerto Rican Story is the remarkable account of one family’s unexpected hardships\, sacrifices and triumphs.  \n 
URL:http://salsachicago.com/event/a-puerto-rican-story/
LOCATION:The Miracle Center\, 2311 N Pulaski\, Chicago\, IL\, 60639\, United States
END:VEVENT
END:VCALENDAR