BEGIN:VCALENDAR
VERSION:2.0
PRODID:-//SalsaChicago.com - ECPv5.10.0//NONSGML v1.0//EN
CALSCALE:GREGORIAN
METHOD:PUBLISH
X-WR-CALNAME:SalsaChicago.com
X-ORIGINAL-URL:http://salsachicago.com
X-WR-CALDESC:Events for SalsaChicago.com
BEGIN:VTIMEZONE
TZID:America/Chicago
BEGIN:DAYLIGHT
TZOFFSETFROM:-0600
TZOFFSETTO:-0500
TZNAME:CDT
DTSTART:20180311T080000
END:DAYLIGHT
BEGIN:STANDARD
TZOFFSETFROM:-0500
TZOFFSETTO:-0600
TZNAME:CST
DTSTART:20181104T070000
END:STANDARD
END:VTIMEZONE
BEGIN:VEVENT
DTSTART;TZID=America/Chicago:20180810T110000
DTEND;TZID=America/Chicago:20180812T220000
DTSTAMP:20260422T191704
CREATED:20180731T021439Z
LAST-MODIFIED:20180731T022612Z
UID:959-1533898800-1534111200@salsachicago.com
SUMMARY:Cuban Festival Chicago
DESCRIPTION:RIIS Park 6100 W Fullerton. 11:00am to 10:00pm daily. \nPurchase tickets at TheCubanFestival.com
URL:http://salsachicago.com/event/cuban-festival-chicago/
LOCATION:Riis Park\, 6100 W Fullerton\, Chicago\, IL\, 60639\, United States
END:VEVENT
BEGIN:VEVENT
DTSTART;TZID=America/Chicago:20180810T190000
DTEND;TZID=America/Chicago:20180810T220000
DTSTAMP:20260422T191704
CREATED:20180731T022011Z
LAST-MODIFIED:20180731T022011Z
UID:964-1533927600-1533938400@salsachicago.com
SUMMARY:Meetup @ Salsa Bachata Friday's
DESCRIPTION:Meet up Salsa Fridays at The New Dance Academy of Salsa 2731 W Division\, Chicago (near Northwest side). Make new friends & learn to dance in a social environment. Plenty of street parking. \nTake 4 Mini Classes & stay Social Dancing till 10:00pm for 1 price $15 per person.  \n\n7:00 to 7:30pm – Bachata class\n7:30 to 8:00pm – Salsa class\n8:00 to 8:30pm – Merengue & Cha Cha Cha\nOpen dancing till 10:00pm\nBYOB 21 and over with ID’s\n$1.00 Bottles of Ice cold Water\n$2.00 Bottles Ice old Gatorade\n\nE-mail Lsalsero@aol.com to reserve your spot.
URL:http://salsachicago.com/event/meetup-salsa-bachata-fridays-78/
LOCATION:Dance Academy of Salsa\, 2246 N Western\, Chicago\, IL\, 60647\, United States
END:VEVENT
END:VCALENDAR