BEGIN:VCALENDAR
VERSION:2.0
PRODID:-//SalsaChicago.com - ECPv5.10.0//NONSGML v1.0//EN
CALSCALE:GREGORIAN
METHOD:PUBLISH
X-WR-CALNAME:SalsaChicago.com
X-ORIGINAL-URL:http://salsachicago.com
X-WR-CALDESC:Events for SalsaChicago.com
BEGIN:VTIMEZONE
TZID:America/Chicago
BEGIN:DAYLIGHT
TZOFFSETFROM:-0600
TZOFFSETTO:-0500
TZNAME:CDT
DTSTART:20170312T080000
END:DAYLIGHT
BEGIN:STANDARD
TZOFFSETFROM:-0500
TZOFFSETTO:-0600
TZNAME:CST
DTSTART:20171105T070000
END:STANDARD
END:VTIMEZONE
BEGIN:VEVENT
DTSTART;TZID=America/Chicago:20171201T140000
DTEND;TZID=America/Chicago:20171230T210000
DTSTAMP:20260423T090721
CREATED:20171205T023455Z
LAST-MODIFIED:20171205T023512Z
UID:838-1512136800-1514667600@salsachicago.com
SUMMARY:Joffrey Ballet The Nutcracker
DESCRIPTION:December 1 – 30\, 2017 \nChoreographer: © Christopher Wheeldon \nMusic: Peter Ilyich Tchaikovsky \nJourney inside Chicago’s 1893 World’s Fair with Wheeldon’s critically acclaimed holiday masterpiece. When young Marie and her mother\, a sculptress who is creating the fair’s iconic Statue of the Republic\, host a holiday party\, a surprise visit from the charming Great Impresario sets off a Christmas Eve dream of whirlwind romance and adventure. A must-see tradition boldly reimagined for a new generation. \n\nDECEMBER\n\n\n\n\n\n\n\n\n\nTHU\nDec 7\, 2017 – 7:00pm\nTickets\n\n\nFRI\nDec 8\, 2017 – 7:00pm\nTickets\n\n\nSAT\nDec 9\, 2017 – 2:00pm\nTickets\n\n\nSAT\nDec 9\, 2017 – 7:00pm\nTickets\n\n\nSUN\nDec 10\, 2017 – 2:00pm\nTickets\n\n\nSUN\nDec 10\, 2017 – 7:00pm\nTickets\n\n\nTHU\nDec 14\, 2017 – 7:00pm\nTickets\n\n\nFRI\nDec 15\, 2017 – 7:00pm\nTickets\n\n\nSAT\nDec 16\, 2017 – 2:00pm\nTickets\n\n\nSAT\nDec 16\, 2017 – 7:00pm\nTickets\n\n\nSUN\nDec 17\, 2017 – 2:00pm\nTickets\n\n\nSUN\nDec 17\, 2017 – 7:00pm\nTickets\n\n\nWED\nDec 20\, 2017 – 7:00pm\nTickets\n\n\nTHU\nDec 21\, 2017 – 2:00pm\nTickets\n\n\nTHU\nDec 21\, 2017 – 7:00pm\nTickets\n\n\nFRI\nDec 22\, 2017 – 2:00pm\nTickets\n\n\nFRI\nDec 22\, 2017 – 7:00pm\nTickets\n\n\nSAT\nDec 23\, 2017 – 2:00pm\nTickets\n\n\nSAT\nDec 23\, 2017 – 7:00pm\nTickets\n\n\nSUN\nDec 24\, 2017 – 2:00pm\nTickets\n\n\nTUE\nDec 26\, 2017 – 2:00pm\nTickets\n\n\nTUE\nDec 26\, 2017 – 7:00pm\nTickets\n\n\nWED\nDec 27\, 2017 – 2:00pm\nTickets\n\n\nTHU\nDec 28\, 2017 – 2:00pm\nTickets\n\n\nTHU\nDec 28\, 2017 – 7:00pm\nTickets\n\n\nFRI\nDec 29\, 2017 – 2:00pm\nTickets\n\n\nFRI\nDec 29\, 2017 – 7:00pm\nTickets\n\n\nSAT\nDec 30\, 2017 – 2:00pm\nTickets\n\n\n\n 
URL:http://salsachicago.com/event/joffrey-ballet-the-nutcracker/
LOCATION:Auditorium Theatre\, 50 E Ida B Wells Dr.\, Chicago\, IL\, United States
END:VEVENT
BEGIN:VEVENT
DTSTART;TZID=America/Chicago:20171222T190000
DTEND;TZID=America/Chicago:20171222T220000
DTSTAMP:20260423T090721
CREATED:20171115T015635Z
LAST-MODIFIED:20171115T015635Z
UID:820-1513969200-1513980000@salsachicago.com
SUMMARY:Meetup @ Salsa Bachata Friday's
DESCRIPTION:Meet up Salsa Fridays at The New Dance Academy of Salsa 2731 W Division\, Chicago (near Northwest side). Make new friends & learn to dance in a social environment. Plenty of street parking. \nTake 4 Mini Classes & stay Social Dancing till 10:00pm for 1 price $15 per person.  \n\n7:00 to 7:30pm – Bachata class\n7:30 to 8:00pm – Salsa class\n8:00 to 8:30pm – Merengue & Cha Cha Cha\nOpen dancing till 10:00pm\nBYOB 21 and over with ID’s\n$1.00 Bottles of Ice cold Water\n$2.00 Bottles Ice old Gatorade\n\nE-mail Lsalsero@aol.com to reserve your spot.
URL:http://salsachicago.com/event/meetup-salsa-bachata-fridays-45/
LOCATION:Dance Academy of Salsa\, 2246 N Western\, Chicago\, IL\, 60647\, United States
END:VEVENT
END:VCALENDAR