BEGIN:VCALENDAR
VERSION:2.0
PRODID:-//SalsaChicago.com - ECPv5.10.0//NONSGML v1.0//EN
CALSCALE:GREGORIAN
METHOD:PUBLISH
X-WR-CALNAME:SalsaChicago.com
X-ORIGINAL-URL:http://salsachicago.com
X-WR-CALDESC:Events for SalsaChicago.com
BEGIN:VTIMEZONE
TZID:America/Chicago
BEGIN:DAYLIGHT
TZOFFSETFROM:-0600
TZOFFSETTO:-0500
TZNAME:CDT
DTSTART:20170312T080000
END:DAYLIGHT
BEGIN:STANDARD
TZOFFSETFROM:-0500
TZOFFSETTO:-0600
TZNAME:CST
DTSTART:20171105T070000
END:STANDARD
END:VTIMEZONE
BEGIN:VEVENT
DTSTART;TZID=America/Chicago:20170818T180000
DTEND;TZID=America/Chicago:20170818T213000
DTSTAMP:20260423T142723
CREATED:20170502T021201Z
LAST-MODIFIED:20170502T023516Z
UID:683-1503079200-1503091800@salsachicago.com
SUMMARY:2017 Chicago Summer Dance Kizomba/Bachata
DESCRIPTION:6:00 – 7:00pm – Free Kizomba – Bachata class with Latin Street Dancing\n7:30 – 9:30 DJ Series with DJ Just Jacob
URL:http://salsachicago.com/event/2017-chicago-summer-dance-10/
LOCATION:Chicago Summer Dance\, 601 S Michigan Ave.\, Chicago\, IL\, 60605\, United States
END:VEVENT
BEGIN:VEVENT
DTSTART;TZID=America/Chicago:20170818T190000
DTEND;TZID=America/Chicago:20170818T220000
DTSTAMP:20260423T142723
CREATED:20170731T035214Z
LAST-MODIFIED:20170731T035214Z
UID:760-1503082800-1503093600@salsachicago.com
SUMMARY:Meetup @ Salsa Bachata Friday's
DESCRIPTION:Meet up Salsa Fridays at The New Dance Academy of Salsa 2731 W Division\, Chicago (near Northwest side). Make new friends & learn to dance in a social environment. Plenty of street parking. \nTake 4 Mini Classes & stay Social Dancing till 10:00pm for 1 price $15 per person.  \n\n7:00 to 7:30pm – Bachata class\n7:30 to 8:00pm – Salsa class\n8:00 to 8:30pm – Merengue & Cha Cha Cha\nOpen dancing till 10:00pm\nBYOB 21 and over with ID’s\n$1.00 Bottles of Ice cold Water\n$2.00 Bottles Ice old Gatorade\nJuicy Luzy Sangria Tasting (21 and over with ID’s) Pear\, Mango\, Ruby Red\, Pomegranate\n\nE-mail Lsalsero@aol.com to reserve your spot.
URL:http://salsachicago.com/event/meetup-salsa-bachata-fridays-34/
LOCATION:Dance Academy of Salsa\, 2246 N Western\, Chicago\, IL\, 60647\, United States
END:VEVENT
END:VCALENDAR