BEGIN:VCALENDAR
VERSION:2.0
PRODID:-//SalsaChicago.com - ECPv5.10.0//NONSGML v1.0//EN
CALSCALE:GREGORIAN
METHOD:PUBLISH
X-WR-CALNAME:SalsaChicago.com
X-ORIGINAL-URL:http://salsachicago.com
X-WR-CALDESC:Events for SalsaChicago.com
BEGIN:VTIMEZONE
TZID:America/Chicago
BEGIN:DAYLIGHT
TZOFFSETFROM:-0600
TZOFFSETTO:-0500
TZNAME:CDT
DTSTART:20160313T080000
END:DAYLIGHT
BEGIN:STANDARD
TZOFFSETFROM:-0500
TZOFFSETTO:-0600
TZNAME:CST
DTSTART:20161106T070000
END:STANDARD
END:VTIMEZONE
BEGIN:VEVENT
DTSTART;TZID=America/Chicago:20160811T190000
DTEND;TZID=America/Chicago:20160813T190000
DTSTAMP:20260424T102941
CREATED:20160628T021635Z
LAST-MODIFIED:20160628T021635Z
UID:338-1470942000-1471114800@salsachicago.com
SUMMARY:The Barrio Project
DESCRIPTION:The Miracle Center 2311 N Pulaski\, Chicago\, IL. \nGet your advanced tickets here for $20.00.
URL:http://salsachicago.com/event/the-barrio-project/
LOCATION:The Miracle Center\, 2311 N Pulaski\, Chicago\, IL\, 60639\, United States
END:VEVENT
BEGIN:VEVENT
DTSTART;TZID=America/Chicago:20160812T160000
DTEND;TZID=America/Chicago:20160814T220000
DTSTAMP:20260424T102941
CREATED:20160720T012817Z
LAST-MODIFIED:20160720T012818Z
UID:366-1471017600-1471212000@salsachicago.com
SUMMARY:Festival Cubano
DESCRIPTION:
URL:http://salsachicago.com/event/festival-cubano/
LOCATION:Riis Park\, 6100 W Fullerton\, Chicago\, IL\, 60639\, United States
END:VEVENT
END:VCALENDAR