BEGIN:VCALENDAR
VERSION:2.0
PRODID:-//SalsaChicago.com - ECPv5.10.0//NONSGML v1.0//EN
CALSCALE:GREGORIAN
METHOD:PUBLISH
X-WR-CALNAME:SalsaChicago.com
X-ORIGINAL-URL:http://salsachicago.com
X-WR-CALDESC:Events for SalsaChicago.com
BEGIN:VTIMEZONE
TZID:America/Chicago
BEGIN:DAYLIGHT
TZOFFSETFROM:-0600
TZOFFSETTO:-0500
TZNAME:CDT
DTSTART:20160313T080000
END:DAYLIGHT
BEGIN:STANDARD
TZOFFSETFROM:-0500
TZOFFSETTO:-0600
TZNAME:CST
DTSTART:20161106T070000
END:STANDARD
END:VTIMEZONE
BEGIN:VEVENT
DTSTART;TZID=America/Chicago:20160714T190000
DTEND;TZID=America/Chicago:20160716T220000
DTSTAMP:20260424T124347
CREATED:20160628T020158Z
LAST-MODIFIED:20160628T020158Z
UID:331-1468522800-1468706400@salsachicago.com
SUMMARY:10th Chicago Latin Jazz Festival
DESCRIPTION:July 14\, 15 & 16 at the Humboldt Park Boat House 1301 N Sacramento\, Chicago.\nFree to the public. Get all the details here.
URL:http://salsachicago.com/event/10th-chicago-latin-jazz-festival/
LOCATION:Humboldt Park Boat House\, 1301 N Sacramento\, Chicago\, IL\, 60622\, United States
END:VEVENT
BEGIN:VEVENT
DTSTART;TZID=America/Chicago:20160715T190000
DTEND;TZID=America/Chicago:20160715T220000
DTSTAMP:20260424T124347
CREATED:20160608T015855Z
LAST-MODIFIED:20160608T020843Z
UID:322-1468609200-1468620000@salsachicago.com
SUMMARY:Meetup at Salsa Bachata Fridays
DESCRIPTION:Social Fridays at The New Dance Academy of Salsa 2731 W Division\, Chicago (near Northwest side) plenty of street parking. \nTake 4 Mini Classes & Social Dancing till 10:00pm for 1 price $15 per person. Make new friends & learn to dance in a social environment.  \n\n7:00 to 7:30pm – Bachata class\n7:30 to 8:00pm – Salsa class\n8:00 to 8:30pm – Merengue & Cha Cha Cha\nOpen dancing till 10:00pm\nBYOB 21 and over with ID’s\n$1.00 Bottles of Ice cold Water\n$2.00 Bottles Ice old Gatorade\n\nE-mail Lsalsero@aol.com to reserve your spot.
URL:http://salsachicago.com/event/meetup-at-salsa-fridays-6/
LOCATION:Dance Academy of Salsa\, 2246 N Western\, Chicago\, IL\, 60647\, United States
END:VEVENT
END:VCALENDAR