BEGIN:VCALENDAR
VERSION:2.0
PRODID:-//SalsaChicago.com - ECPv5.10.0//NONSGML v1.0//EN
CALSCALE:GREGORIAN
METHOD:PUBLISH
X-WR-CALNAME:SalsaChicago.com
X-ORIGINAL-URL:http://salsachicago.com
X-WR-CALDESC:Events for SalsaChicago.com
BEGIN:VTIMEZONE
TZID:America/Chicago
BEGIN:DAYLIGHT
TZOFFSETFROM:-0600
TZOFFSETTO:-0500
TZNAME:CDT
DTSTART:20160313T080000
END:DAYLIGHT
BEGIN:STANDARD
TZOFFSETFROM:-0500
TZOFFSETTO:-0600
TZNAME:CST
DTSTART:20161106T070000
END:STANDARD
END:VTIMEZONE
BEGIN:VEVENT
DTSTART;TZID=America/Chicago:20160709T180000
DTEND;TZID=America/Chicago:20160709T213000
DTSTAMP:20260424T124346
CREATED:20160428T005028Z
LAST-MODIFIED:20160706T005507Z
UID:300-1468087200-1468099800@salsachicago.com
SUMMARY:Chicago Summer Dance with Michael Angelo Dance Academy of Salsa
DESCRIPTION:Join the Dance Academy of Salsa at the 20th Annual Chicago Summer Dance. \nSalsa\, Cha Cha Cha class with Miguel & Michael Angelo Mendez followed by live music with Los Hacheros and dancing till 9:30pm.  \nClass time: 6:00 – 7:00pm\nLive band: 7:30 – 9:30pm\nFree to the public\nClick here for the weekly drop in class schedule at the Dance Academy of Salsa.
URL:http://salsachicago.com/event/chicago-summer-dance/
LOCATION:Spirit of Music Garden\, 601 S Michigan Ave.\, Chicago\, IL\, 60605\, United States
END:VEVENT
BEGIN:VEVENT
DTSTART;TZID=America/Chicago:20160709T190000
DTEND;TZID=America/Chicago:20160710T010000
DTSTAMP:20260424T124346
CREATED:20160706T020912Z
LAST-MODIFIED:20160706T020935Z
UID:353-1468090800-1468112400@salsachicago.com
SUMMARY:Orquesta Suave at the Willowbrook Ballroom
DESCRIPTION:Gran Baile de Salsa\, Merengue\, Cha Cha Cha\, Cumbia\, Mambo y mas con La Gran Orquesta Suave. 
URL:http://salsachicago.com/event/orquesta-suave-at-the-willowbrook-ballroom/
LOCATION:Willowbrook Ballroom\, 8900 S Archer Ave.\, Willow Springs\, IL\, 60480\, United States
END:VEVENT
END:VCALENDAR