BEGIN:VCALENDAR
VERSION:2.0
PRODID:-//SalsaChicago.com - ECPv5.10.0//NONSGML v1.0//EN
CALSCALE:GREGORIAN
METHOD:PUBLISH
X-WR-CALNAME:SalsaChicago.com
X-ORIGINAL-URL:http://salsachicago.com
X-WR-CALDESC:Events for SalsaChicago.com
BEGIN:VTIMEZONE
TZID:America/Chicago
BEGIN:DAYLIGHT
TZOFFSETFROM:-0600
TZOFFSETTO:-0500
TZNAME:CDT
DTSTART:20160313T080000
END:DAYLIGHT
BEGIN:STANDARD
TZOFFSETFROM:-0500
TZOFFSETTO:-0600
TZNAME:CST
DTSTART:20161106T070000
END:STANDARD
END:VTIMEZONE
BEGIN:VEVENT
DTSTART;TZID=America/Chicago:20160616T110000
DTEND;TZID=America/Chicago:20160619T220000
DTSTAMP:20260424T144612
CREATED:20160608T021552Z
LAST-MODIFIED:20160608T234116Z
UID:326-1466074800-1466373600@salsachicago.com
SUMMARY:Puerto Rican Fiestas Patrias
DESCRIPTION:
URL:http://salsachicago.com/event/puerto-rican-fiestas-patrias/
LOCATION:Humboldt Park\, 3100 W North Ave\,\, Chicago\, IL\, United States
END:VEVENT
BEGIN:VEVENT
DTSTART;TZID=America/Chicago:20160617T190000
DTEND;TZID=America/Chicago:20160617T220000
DTSTAMP:20260424T144612
CREATED:20160608T012801Z
LAST-MODIFIED:20160608T020949Z
UID:308-1466190000-1466200800@salsachicago.com
SUMMARY:Meetup at Salsa Bachata Fridays
DESCRIPTION:Social Fridays at The New Dance Academy of Salsa 2731 W Division\, Chicago (near Northwest side) plenty of street parking. \nTake 4 Mini Classes & Social Dancing till 10:00pm for 1 price $15 per person. Make new friends & learn to dance in a social environment.  \n\n7:00 to 7:30pm – Bachata class\n7:30 to 8:00pm – Salsa class\n8:00 to 8:30pm – Merengue & Cha Cha Cha\nOpen dancing till 10:00pm\nBYOB 21 and over with ID’s\n$1.00 Bottles of Ice cold Water\n$2.00 Bottles Ice old Gatorade\n\nE-mail Lsalsero@aol.com to reserve your spot.
URL:http://salsachicago.com/event/meetup-at-salsa-fridays-2/
LOCATION:Dance Academy of Salsa\, 2246 N Western\, Chicago\, IL\, 60647\, United States
END:VEVENT
BEGIN:VEVENT
DTSTART;TZID=America/Chicago:20160617T210000
DTEND;TZID=America/Chicago:20160618T030000
DTSTAMP:20260424T144612
CREATED:20160608T013417Z
LAST-MODIFIED:20160608T013417Z
UID:310-1466197200-1466218800@salsachicago.com
SUMMARY:Frankie Negron Live in Concert
DESCRIPTION:Friday\, June 17th at Pure Nightclub 3548 N River Rd.Franklin Park\, IL. \n21 to enter. Dress to Impress. Free Parking.
URL:http://salsachicago.com/event/frankie-negron-live-in-concert/
LOCATION:Pure Nightclub\, 3548 N River Rd.\, Franklin Park\, IL\, United States
END:VEVENT
END:VCALENDAR